BEGIN:VCALENDAR
VERSION:2.0
PRODID:-//hacksw/handcal//NONSGML v1.0//EN
BEGIN:VEVENT
SUMMARY:1/2 Finale coupe de l herault
UID:5f28ee58-5c03-442e-adea-8cd736f2117b
DTSTART:20260411T163000Z
DTEND:20260411T203000Z
LOCATION:Localisation   
CATEGORIES:Sportif
STATUS:
URL;VALUE=URI:https://www.boulehautlibron.fr/evenements/2026/04/11/12-finale-coupe-de-l-herault-2442611
END:VEVENT
END:VCALENDAR
