BEGIN:VCALENDAR
VERSION:2.0
PRODID:-//hacksw/handcal//NONSGML v1.0//EN
BEGIN:VEVENT
SUMMARY:1/2 Finale coupe de l herault Aller
UID:73c0200e-49a3-4559-a46b-5d5a6e92861d
DTSTART:20260328T130000Z
DTEND:20260328T180000Z
LOCATION:Localisation   
CATEGORIES:Sportif
STATUS:
URL;VALUE=URI:https://www.boulehautlibron.fr/evenements/2026/03/28/12-finale-coupe-de-l-herault-aller-2442615
END:VEVENT
END:VCALENDAR
